BEGIN:VCALENDAR
VERSION:2.0
PRODID:-//wp-events-plugin.com//7.2.3.1//EN
TZID:America/New_York
X-WR-TIMEZONE:America/New_York
BEGIN:VEVENT
UID:35@designcenterdc.com
DTSTART;TZID=America/New_York:20260416T110000
DTEND;TZID=America/New_York:20260416T160000
DTSTAMP:20260325T180225Z
URL:https://designcenterdc.com/events/charlottesville-spring-presentations
 /
SUMMARY:Charlottesville Spring Presentations
DESCRIPTION:[vc_row][vc_column width="1/6"][/vc_column][vc_column width="2/
 3"][movedo_single_image image="3322"][movedo_button button_text="RSVP" but
 ton_color="primary-3" button_link="url:mailto%3Amyray%40hinescompany.com"]
 [/vc_column][vc_column width="1/6"][/vc_column][/vc_row]
ATTACH;FMTTYPE=image/jpeg:https://i0.wp.com/designcenterdc.com/wp-content/
 uploads/2026/03/springpresentation_social.jpg?fit=1200%2C1500&ssl=1
END:VEVENT
BEGIN:VTIMEZONE
TZID:America/New_York
X-LIC-LOCATION:America/New_York
BEGIN:DAYLIGHT
DTSTART:20260308T030000
TZOFFSETFROM:-0500
TZOFFSETTO:-0400
TZNAME:EDT
END:DAYLIGHT
END:VTIMEZONE
END:VCALENDAR